BEGIN:VCALENDAR
VERSION:2.0
PRODID:Quicksite
NAME:Calendrier
X-WR-CALNAME:Calendrier
REFRESH-INTERVAL;VALUE=DURATION:PT240M
X-PUBLISHED-TTL:PT240M
BEGIN:VEVENT
UID:69e77bb5b3a4a
SUMMARY:Tir du 1er août
DESCRIPTION:Avec restauration
LOCATION:Stand de tir et refuge
DTSTART:20260715
DTSTAMP:20260317T075535Z
END:VEVENT
END:VCALENDAR